BEGIN:VCALENDAR
VERSION:2.0
PRODID:-//wp-events-plugin.com//7.2.3.1//EN
BEGIN:VEVENT
UID:71@earlylearningmatters.org.au
DTSTART;TZID=Australia/Sydney;VALUE=DATE:20240805
DTEND;TZID=Australia/Sydney;VALUE=DATE:20240810
DTSTAMP:20240802T001423Z
URL:https://www.earlylearningmatters.org.au/events/sanctuary-early-learnin
 g-looks-like-play/
SUMMARY:Sanctuary Early Learning - Looks Like Play
DESCRIPTION:
CATEGORIES:Early Learning Matters WEek
LOCATION:37 Tibin Dr\, 37 Tibin Dr\, Fletcher\, NSW 2287\, Fletcher\, New S
 outh Wales\, 2287\, Australia
X-APPLE-STRUCTURED-LOCATION;VALUE=URI;X-ADDRESS=37 Tibin Dr\, Fletcher\, NS
 W 2287\, Fletcher\, New South Wales\, 2287\, Australia;X-APPLE-RADIUS=100;
 X-TITLE=37 Tibin Dr:geo:0,0
END:VEVENT
BEGIN:VTIMEZONE
TZID:Australia/Sydney
X-LIC-LOCATION:Australia/Sydney
BEGIN:STANDARD
DTSTART:20240407T020000
TZOFFSETFROM:+1100
TZOFFSETTO:+1000
TZNAME:AEST
END:STANDARD
END:VTIMEZONE
END:VCALENDAR