BEGIN:VCALENDAR
VERSION:2.0
PRODID:-//wp-events-plugin.com//7.2.3.1//EN
BEGIN:VEVENT
UID:2@earlylearningmatters.org.au
DTSTART;TZID=Australia/Sydney;VALUE=DATE:20240805
DTEND;TZID=Australia/Sydney;VALUE=DATE:20240810
DTSTAMP:20240718T051248Z
URL:https://www.earlylearningmatters.org.au/events/salamander-early-educat
 ion-unpacking-the-importance-of-early-education/
SUMMARY:Salamander Early Education - Unpacking The Importance Of Early Educ
 ation
DESCRIPTION:Join us at our Centre throughout the week as we invite local me
 mbers to celebrate our educators and their invaluable work. Families are a
 lso invited to join us for morning tea with our team\, followed by an even
 t welcoming community members interested in early childhood to ask questio
 ns\, seek advice\, and hear from local members and sector experts.
LOCATION:3 Community Close\, 3 Community Close\, Salamander Bay\, NSW 2317\
 , Salamander Bay\, NSW\, 2317\, Australia
X-APPLE-STRUCTURED-LOCATION;VALUE=URI;X-ADDRESS=3 Community Close\, Salaman
 der Bay\, NSW 2317\, Salamander Bay\, NSW\, 2317\, Australia;X-APPLE-RADIU
 S=100;X-TITLE=3 Community Close:geo:0,0
END:VEVENT
BEGIN:VTIMEZONE
TZID:Australia/Sydney
X-LIC-LOCATION:Australia/Sydney
BEGIN:STANDARD
DTSTART:20240407T020000
TZOFFSETFROM:+1100
TZOFFSETTO:+1000
TZNAME:AEST
END:STANDARD
END:VTIMEZONE
END:VCALENDAR